BEGIN:VCALENDAR
PRODID:-//eluceo/ical//2.0/EN
VERSION:2.0
CALSCALE:GREGORIAN
BEGIN:VEVENT
UID:a43daee43051b82efcb794328b4c583f
DTSTAMP:20260422T225914Z
SUMMARY:Gemeinsamer Abendanlass «Roche Tower"
DESCRIPTION:Web stranica: https://www.google.com/maps/@47.5590758\,7.607634
 7\,16.75z\nGovornik(ci): siehe Einladung
URL:https://rotary-sissach.ch/bs/agenda/show/156308
DTSTART;TZID=Europe/Zurich:20230405T173000
DTEND;TZID=Europe/Zurich:20230405T193000
LOCATION:Haupteingang Roche / Grenzacherstrasse Basel
CATEGORIES:Rotary
END:VEVENT
BEGIN:VTIMEZONE
TZID:Europe/Zurich
BEGIN:DAYLIGHT
DTSTART:20230405T173000
TZNAME:CEST
TZOFFSETTO:+0200
TZOFFSETFROM:+0200
END:DAYLIGHT
END:VTIMEZONE
END:VCALENDAR
