BEGIN:VCALENDAR
PRODID:-//eluceo/ical//2.0/EN
VERSION:2.0
CALSCALE:GREGORIAN
BEGIN:VEVENT
UID:5edd13909b0c4303481581f90698c4bc
DTSTAMP:20260422T230152Z
SUMMARY:Einladung vom RC Liestal zum Hüttenanlass
DESCRIPTION:Web stranica: https://www.google.com/maps/place/Hof+Langacker\,
 +4433+Ramlinsburg\,+Schweiz/@47.4510912\,7.7686231\,1206m/data=!3m1!1e3!4m
 6!3m5!1s0x4791cb3ccceb709f:0x582d34ba3b39e12f!8m2!3d47.4511338!4d7.7709771
 !16s%2Fg%2F1v1sk49l?hl=de-DE\nGovornik(ci): 
URL:https://rotary-sissach.ch/bs/agenda/show/157757
DTSTART;TZID=Europe/Zurich:20230420T180000
DTEND;TZID=Europe/Zurich:20230420T230000
LOCATION:Hof Langacker\, Ramlinsburg
CATEGORIES:Rotary
END:VEVENT
BEGIN:VTIMEZONE
TZID:Europe/Zurich
BEGIN:DAYLIGHT
DTSTART:20230420T180000
TZNAME:CEST
TZOFFSETTO:+0200
TZOFFSETFROM:+0200
END:DAYLIGHT
END:VTIMEZONE
END:VCALENDAR
