BEGIN:VCALENDAR
PRODID:-//eluceo/ical//2.0/EN
VERSION:2.0
CALSCALE:GREGORIAN
BEGIN:VEVENT
UID:ccecc3cc08fb7466d8d6763ae1c3d7ae
DTSTAMP:20260422T194856Z
SUMMARY:WELT-POLIO-TAG 2023
DESCRIPTION:
URL:https://rotary-sissach.ch/bs/agenda/show/166923
DTSTART;TZID=Europe/Zurich:20231024T113000
DTEND;TZID=Europe/Zurich:20231024T200000
LOCATION:Areal Spittelerhof\, Kasernenstrasse 22\, 4410 Liestal
CATEGORIES:Rotary
END:VEVENT
BEGIN:VTIMEZONE
TZID:Europe/Zurich
BEGIN:DAYLIGHT
DTSTART:20231024T113000
TZNAME:CEST
TZOFFSETTO:+0200
TZOFFSETFROM:+0200
END:DAYLIGHT
END:VTIMEZONE
END:VCALENDAR
