BEGIN:VCALENDAR
PRODID:-//eluceo/ical//2.0/EN
VERSION:2.0
CALSCALE:GREGORIAN
BEGIN:VEVENT
UID:6f2a188411bd8589436d7c095a5e7816
DTSTAMP:20260420T093026Z
SUMMARY:Plauderlunch
DESCRIPTION:Web stranica: http://www.landgasthof-hard.ch\nGovornik(ci): 
URL:https://rotary-sissach.ch/bs/agenda/show/198134
DTSTART;TZID=Europe/Zurich:20250821T121500
DTEND;TZID=Europe/Zurich:20250821T141500
LOCATION:Landgasthof Hard\, Alte Landstrasse 8\, 4455 Zunzgen\, Schweiz
CATEGORIES:Rotary
END:VEVENT
BEGIN:VTIMEZONE
TZID:Europe/Zurich
BEGIN:DAYLIGHT
DTSTART:20250821T121500
TZNAME:CEST
TZOFFSETTO:+0200
TZOFFSETFROM:+0200
END:DAYLIGHT
END:VTIMEZONE
END:VCALENDAR
