BEGIN:VCALENDAR
PRODID:-//eluceo/ical//2.0/EN
VERSION:2.0
CALSCALE:GREGORIAN
BEGIN:VEVENT
UID:6d705578bf996199fab95593f04af1ba
DTSTAMP:20260422T101029Z
SUMMARY:Besichtigung ÜK Zentrum ABZ TRIO\, Itingen
DESCRIPTION:Web stranica: https://trio-bl.ch/\nGovornik(ci): 
URL:https://rotary-sissach.ch/bs/agenda/show/202673
DTSTART;TZID=Europe/Zurich:20251002T180000
DTEND;TZID=Europe/Zurich:20251002T220000
LOCATION:ÜK Zentrum ABZ TRIO\, Itingen
CATEGORIES:Rotary
END:VEVENT
BEGIN:VTIMEZONE
TZID:Europe/Zurich
BEGIN:DAYLIGHT
DTSTART:20251002T180000
TZNAME:CEST
TZOFFSETTO:+0200
TZOFFSETFROM:+0200
END:DAYLIGHT
END:VTIMEZONE
END:VCALENDAR
