BEGIN:VCALENDAR
PRODID:-//eluceo/ical//2.0/EN
VERSION:2.0
CALSCALE:GREGORIAN
BEGIN:VEVENT
UID:63c51b986b9e58b90c9076ef87ed9d15
DTSTAMP:20260420T092029Z
SUMMARY:Pflegeeinsatz Ödenburg
DESCRIPTION:Web stranica: https://www.google.com/maps/dir/Sissach\,+4450/Ru
 ine+%C3%96denburg\,+4492+Tecknau/@47.4537775\,7.8251592\,13.83z/data=!4m14
 !4m13!1m5!1m1!1s0x47903527c5c23b4b:0x7239c03e423d21ba!2m2!1d7.810661!2d47.
 4643945!1m5!1m1!1s0x4790369ad97dc507:0xbff2350aab885877!2m2!1d7.89406!2d47
 .442!3e0?entry=ttu&g_ep=EgoyMDI0MDkwOC4wIKXMDSoASAFQAw%3D%3D\nGovornik(ci)
 : \nAdrian Hasler
URL:https://rotary-sissach.ch/bs/agenda/show/202677
DTSTART;TZID=Europe/Zurich:20251018T090000
DTEND;TZID=Europe/Zurich:20251018T150000
LOCATION:Ruine Ödenburg\, 4492 Tecknau
CATEGORIES:Rotary
END:VEVENT
BEGIN:VTIMEZONE
TZID:Europe/Zurich
BEGIN:DAYLIGHT
DTSTART:20251018T090000
TZNAME:CEST
TZOFFSETTO:+0200
TZOFFSETFROM:+0200
END:DAYLIGHT
END:VTIMEZONE
END:VCALENDAR
