BEGIN:VCALENDAR
PRODID:-//eluceo/ical//2.0/EN
VERSION:2.0
CALSCALE:GREGORIAN
BEGIN:VEVENT
UID:3513878c39447092b0c2d30ce7295408
DTSTAMP:20260422T195801Z
SUMMARY:Präsenzapéro
DESCRIPTION:\n \nMeni: \n 
URL:https://rotary-sissach.ch/bs/agenda/show/45445
DTSTART;TZID=Europe/Zurich:20141215T181500
DTEND;TZID=Europe/Zurich:20141215T181500
LOCATION:Café Caprice
CATEGORIES:Rotary
END:VEVENT
BEGIN:VTIMEZONE
TZID:Europe/Zurich
BEGIN:STANDARD
DTSTART:20141215T181500
TZNAME:CET
TZOFFSETTO:+0100
TZOFFSETFROM:+0100
END:STANDARD
END:VTIMEZONE
END:VCALENDAR
