BEGIN:VCALENDAR
PRODID:-//eluceo/ical//2.0/EN
VERSION:2.0
CALSCALE:GREGORIAN
BEGIN:VEVENT
UID:19fee8c84f568ac7497868f86b4c0e63
DTSTAMP:20260422T200155Z
SUMMARY:Kontakt Apéro
DESCRIPTION:Gedacht für RotarierInnen\, die nach der Arbeit in Basel die G
 elegenheit nutzen wollen\, Kontakt mit RotarierInnen anderer Clubs der Reg
 ion zu pflegen!\nMeni: \n 
URL:https://rotary-sissach.ch/bs/agenda/show/45835
DTSTART;TZID=Europe/Zurich:20141210T180000
DTEND;TZID=Europe/Zurich:20141210T180000
LOCATION:Hotel Hilton Basel
CATEGORIES:Rotary
END:VEVENT
BEGIN:VTIMEZONE
TZID:Europe/Zurich
BEGIN:STANDARD
DTSTART:20141210T180000
TZNAME:CET
TZOFFSETTO:+0100
TZOFFSETFROM:+0100
END:STANDARD
END:VTIMEZONE
END:VCALENDAR
