BEGIN:VCALENDAR
PRODID:-//eluceo/ical//2.0/EN
VERSION:2.0
CALSCALE:GREGORIAN
BEGIN:VEVENT
UID:71d87280da97d692f4027136fe30c76f
DTSTAMP:20260423T143445Z
SUMMARY:Präsenz-Apéro
DESCRIPTION:
URL:https://rotary-sissach.ch/de/agenda/show/19687
DTSTART;TZID=Europe/Zurich:20111219T181500
DTEND;TZID=Europe/Zurich:20111219T181500
LOCATION:Café Caprice\, Sissach
CATEGORIES:Rotary
END:VEVENT
BEGIN:VTIMEZONE
TZID:Europe/Zurich
BEGIN:STANDARD
DTSTART:20111219T181500
TZNAME:CET
TZOFFSETTO:+0100
TZOFFSETFROM:+0100
END:STANDARD
END:VTIMEZONE
END:VCALENDAR
