BEGIN:VCALENDAR
PRODID:-//eluceo/ical//2.0/EN
VERSION:2.0
CALSCALE:GREGORIAN
BEGIN:VEVENT
UID:44a663e387daed705a0f3443a7dfe7cb
DTSTAMP:20260423T124725Z
SUMMARY:Plauderlunch
DESCRIPTION:
URL:https://rotary-sissach.ch/de/agenda/show/19688
DTSTART;TZID=Europe/Zurich:20111222T121500
DTEND;TZID=Europe/Zurich:20111222T121500
LOCATION:Landgasthof Hard\, Zunzgen
CATEGORIES:Rotary
END:VEVENT
BEGIN:VTIMEZONE
TZID:Europe/Zurich
BEGIN:STANDARD
DTSTART:20111222T121500
TZNAME:CET
TZOFFSETTO:+0100
TZOFFSETFROM:+0100
END:STANDARD
END:VTIMEZONE
END:VCALENDAR
