BEGIN:VCALENDAR
PRODID:-//eluceo/ical//2.0/EN
VERSION:2.0
CALSCALE:GREGORIAN
BEGIN:VEVENT
UID:546d9d7d5fedba2e738854d9d8de0dab
DTSTAMP:20260425T205047Z
SUMMARY:Plauderabend mit Referat von Stefan Philippi\, FHNW
DESCRIPTION:Webseite: https://www.gasthofalpbad.ch/\nReferenten/innen: Stef
 an Philipp\, FHNW
URL:https://rotary-sissach.ch/de/agenda/show/212110
DTSTART;TZID=Europe/Zurich:20260507T180000
DTEND;TZID=Europe/Zurich:20260507T220000
LOCATION:Gasthof Alpbad\, Sissach
CATEGORIES:Rotary
END:VEVENT
BEGIN:VTIMEZONE
TZID:Europe/Zurich
BEGIN:DAYLIGHT
DTSTART:20260507T180000
TZNAME:CEST
TZOFFSETTO:+0200
TZOFFSETFROM:+0200
END:DAYLIGHT
END:VTIMEZONE
END:VCALENDAR
