BEGIN:VCALENDAR
PRODID:-//eluceo/ical//2.0/EN
VERSION:2.0
CALSCALE:GREGORIAN
BEGIN:VEVENT
UID:172b20efeed81df93f3ab4c9bdca59d0
DTSTAMP:20260426T004730Z
SUMMARY:Klassifikationsvortrag Rot. Alain Bouvrot
DESCRIPTION:Referenten/innen: Rot. Alain Bouvrot
URL:https://rotary-sissach.ch/de/agenda/show/28934
DTSTART;TZID=Europe/Zurich:20130117T121500
DTEND;TZID=Europe/Zurich:20130117T121500
LOCATION:Landgasthof Hard
CATEGORIES:Rotary
END:VEVENT
BEGIN:VTIMEZONE
TZID:Europe/Zurich
BEGIN:STANDARD
DTSTART:20130117T121500
TZNAME:CET
TZOFFSETTO:+0100
TZOFFSETFROM:+0100
END:STANDARD
END:VTIMEZONE
END:VCALENDAR
