BEGIN:VCALENDAR
PRODID:-//eluceo/ical//2.0/EN
VERSION:2.0
CALSCALE:GREGORIAN
BEGIN:VEVENT
UID:c8cf5f27c2a8111ae796645136287464
DTSTAMP:20260425T205346Z
SUMMARY:Filmabend
DESCRIPTION:Filmabend "Neuland"\n\n \n\n* Anlass mit Damen\n# gem. sep. Ei
 nladung\nMenü: \n \nWebseite: http://www.marabu-bl.ch\nReferenten/innen:
  Anna Thommen\, Filmemacherin\n\n* Anlass mit Damen\n# gem. sep. Einladung
URL:https://rotary-sissach.ch/de/agenda/show/45438
DTSTART;TZID=Europe/Zurich:20141204T173000
DTEND;TZID=Europe/Zurich:20141204T173000
LOCATION:Kino Marabu\, Gelterkinden
CATEGORIES:Rotary
END:VEVENT
BEGIN:VTIMEZONE
TZID:Europe/Zurich
BEGIN:STANDARD
DTSTART:20141204T173000
TZNAME:CET
TZOFFSETTO:+0100
TZOFFSETFROM:+0100
END:STANDARD
END:VTIMEZONE
END:VCALENDAR
