BEGIN:VCALENDAR
PRODID:-//eluceo/ical//2.0/EN
VERSION:2.0
CALSCALE:GREGORIAN
BEGIN:VEVENT
UID:dcf68d18f9fda1fa1abfc0f7e8adb8aa
DTSTAMP:20260425T172813Z
SUMMARY:Adventsfeier
DESCRIPTION:* Anlass mit Damen\n\n# gem. sep. Einladung\nMenü: \n \nRefer
 enten/innen: Rot. Markus Meier
URL:https://rotary-sissach.ch/de/agenda/show/45446
DTSTART;TZID=Europe/Zurich:20141218T181500
DTEND;TZID=Europe/Zurich:20141218T181500
LOCATION:Kirche Läufelfingen
CATEGORIES:Rotary
END:VEVENT
BEGIN:VTIMEZONE
TZID:Europe/Zurich
BEGIN:STANDARD
DTSTART:20141218T181500
TZNAME:CET
TZOFFSETTO:+0100
TZOFFSETFROM:+0100
END:STANDARD
END:VTIMEZONE
END:VCALENDAR
