BEGIN:VCALENDAR
PRODID:-//eluceo/ical//2.0/EN
VERSION:2.0
CALSCALE:GREGORIAN
BEGIN:VEVENT
UID:dbaf13760466c71c767756bd186a9456
DTSTAMP:20260419T182404Z
SUMMARY:Rotary- Lunch: Thema: Thema: "Band 100 zu Carl Spitteler"  - Stepha
 n Schneider
DESCRIPTION:Website: https://doodle.com/poll/vkzriadm9vv6i247?utm_source=po
 ll&utm_medium=link
URL:https://rotary-sissach.ch/en/agenda/show/137280
DTSTART;TZID=Europe/Zurich:20220113T121500
DTEND;TZID=Europe/Zurich:20220113T134500
LOCATION:Landgasthof Hard\, Alte Landstrasse 8\, 4455 Zunzgen
CATEGORIES:Rotary
END:VEVENT
BEGIN:VTIMEZONE
TZID:Europe/Zurich
BEGIN:STANDARD
DTSTART:20220113T121500
TZNAME:CET
TZOFFSETTO:+0100
TZOFFSETFROM:+0100
END:STANDARD
END:VTIMEZONE
END:VCALENDAR
