BEGIN:VCALENDAR
PRODID:-//eluceo/ical//2.0/EN
VERSION:2.0
CALSCALE:GREGORIAN
BEGIN:VEVENT
UID:05f3dc8e76710485f6489651782c10d7
DTSTAMP:20260422T190947Z
SUMMARY:Perlen\, Königin der Meere
DESCRIPTION:Anlass mit Damen/Interessierten\nSpeaker(s): Ueli Ratgeb\, Scho
 effel Perlen Schweiz
URL:https://rotary-sissach.ch/en/agenda/show/26508
DTSTART;TZID=Europe/Zurich:20121004T181500
DTEND;TZID=Europe/Zurich:20121004T181500
LOCATION:Landgasthof Hard
CATEGORIES:Rotary
END:VEVENT
BEGIN:VTIMEZONE
TZID:Europe/Zurich
BEGIN:DAYLIGHT
DTSTART:20121004T181500
TZNAME:CEST
TZOFFSETTO:+0200
TZOFFSETFROM:+0200
END:DAYLIGHT
END:VTIMEZONE
END:VCALENDAR
