BEGIN:VCALENDAR
PRODID:-//eluceo/ical//2.0/EN
VERSION:2.0
CALSCALE:GREGORIAN
BEGIN:VEVENT
UID:17c09df7a599246a8c00679e08edaac0
DTSTAMP:20260421T180012Z
SUMMARY:*# Schlossführung "General Guisan"\, Schmittebier-Zvieri => ABGESA
 GT!
DESCRIPTION:Sitio web: https://www.schloss-jegenstorf.ch/de/\nOrador(es): S
 chlossführung "General Guisan"\, Schmittebier-Zvieri\nAnlass mit Partneri
 nnen/Partnern
URL:https://rotary-sissach.ch/es/agenda/show/111658
DTSTART;TZID=Europe/Zurich:20200509T120000
DTEND;TZID=Europe/Zurich:20200509T120000
LOCATION:Schloss Jegenstorf
CATEGORIES:Rotary
END:VEVENT
BEGIN:VTIMEZONE
TZID:Europe/Zurich
BEGIN:DAYLIGHT
DTSTART:20200509T120000
TZNAME:CEST
TZOFFSETTO:+0200
TZOFFSETFROM:+0200
END:DAYLIGHT
END:VTIMEZONE
END:VCALENDAR
