BEGIN:VCALENDAR
PRODID:-//eluceo/ical//2.0/EN
VERSION:2.0
CALSCALE:GREGORIAN
BEGIN:VEVENT
UID:9f536e3f4d70d052a5c1b6a82e4a3898
DTSTAMP:20260421T195509Z
SUMMARY:Plauderlunch - ABGESAGT
DESCRIPTION:
URL:https://rotary-sissach.ch/es/agenda/show/111659
DTSTART;TZID=Europe/Zurich:20200514T121500
DTEND;TZID=Europe/Zurich:20200514T121500
LOCATION:Landgasthof Hard
CATEGORIES:Rotary
END:VEVENT
BEGIN:VTIMEZONE
TZID:Europe/Zurich
BEGIN:DAYLIGHT
DTSTART:20200514T121500
TZNAME:CEST
TZOFFSETTO:+0200
TZOFFSETFROM:+0200
END:DAYLIGHT
END:VTIMEZONE
END:VCALENDAR
