BEGIN:VCALENDAR
PRODID:-//eluceo/ical//2.0/EN
VERSION:2.0
CALSCALE:GREGORIAN
BEGIN:VEVENT
UID:7c2b1cf7af21b36ec21b135df24f6531
DTSTAMP:20260421T213902Z
SUMMARY:Virtuelle "Happy Hour"\, Montag 18. Mai 2020 / 18.15 Uhr 
DESCRIPTION:Sitio web: https://global.gotomeeting.com/join/848150221 \nOrad
 or(es): Gemäss sep. Einladung und Anleitung \nWer keinen Computer hat\, k
 ann sich auch per Telefon einwählen unter der gratis Nummer \n+41 225 459
 9 60\nCode 848 150 221
URL:https://rotary-sissach.ch/es/agenda/show/111660
DTSTART;TZID=Europe/Zurich:20200518T181500
DTEND;TZID=Europe/Zurich:20200518T181500
LOCATION:Im Netz von &quot\;Irgendwo&quot\; - mit eigenem PC\, Notebook\, T
 ablet\, Smartphone...
CATEGORIES:Rotary
END:VEVENT
BEGIN:VTIMEZONE
TZID:Europe/Zurich
BEGIN:DAYLIGHT
DTSTART:20200518T181500
TZNAME:CEST
TZOFFSETTO:+0200
TZOFFSETFROM:+0200
END:DAYLIGHT
END:VTIMEZONE
END:VCALENDAR
