BEGIN:VCALENDAR
PRODID:-//eluceo/ical//2.0/EN
VERSION:2.0
CALSCALE:GREGORIAN
BEGIN:VEVENT
UID:23c54d964f95d58d02ddf1239d4bd9ae
DTSTAMP:20260421T141943Z
SUMMARY:*# Rotary Schiessanlass  - ABGESAGT
DESCRIPTION:
URL:https://rotary-sissach.ch/es/agenda/show/111671
DTSTART;TZID=Europe/Zurich:20200604T181500
DTEND;TZID=Europe/Zurich:20200604T181500
LOCATION:Schiessstand Limperg\, Sissach
CATEGORIES:Rotary
END:VEVENT
BEGIN:VTIMEZONE
TZID:Europe/Zurich
BEGIN:DAYLIGHT
DTSTART:20200604T181500
TZNAME:CEST
TZOFFSETTO:+0200
TZOFFSETFROM:+0200
END:DAYLIGHT
END:VTIMEZONE
END:VCALENDAR
