BEGIN:VCALENDAR
PRODID:-//eluceo/ical//2.0/EN
VERSION:2.0
CALSCALE:GREGORIAN
BEGIN:VEVENT
UID:84a7fb66c1532cc644e75f5f85e58c92
DTSTAMP:20260421T182825Z
SUMMARY:*# Abendanlass Wandmalereien\, Tanzsaal Restaurant Rössli (Anmeldu
 ngen bis 29. Juni 2020)
DESCRIPTION:Sitio web: https://doodle.com/poll/9rxvefrcphmpirfz\nOrador(es)
 : Urs Wüthrich
URL:https://rotary-sissach.ch/es/agenda/show/112738
DTSTART;TZID=Europe/Zurich:20200702T183000
DTEND;TZID=Europe/Zurich:20200702T230000
LOCATION:Restaurant Rössli Zeglingen
CATEGORIES:Rotary
END:VEVENT
BEGIN:VTIMEZONE
TZID:Europe/Zurich
BEGIN:DAYLIGHT
DTSTART:20200702T183000
TZNAME:CEST
TZOFFSETTO:+0200
TZOFFSETFROM:+0200
END:DAYLIGHT
END:VTIMEZONE
END:VCALENDAR
