BEGIN:VCALENDAR
PRODID:-//eluceo/ical//2.0/EN
VERSION:2.0
CALSCALE:GREGORIAN
BEGIN:VEVENT
UID:f69f8a844538e2676a1f8591a98b483f
DTSTAMP:20260421T201146Z
SUMMARY:Auswärtslunch Restaurant Säge (Anmeldungen bis 6. Juli 2020)
DESCRIPTION:Sitio web: https://doodle.com/poll/56shzphtcegk4bei
URL:https://rotary-sissach.ch/es/agenda/show/112739
DTSTART;TZID=Europe/Zurich:20200709T121500
DTEND;TZID=Europe/Zurich:20200709T133000
LOCATION:Restaurant Säge\, Rothenfluh
CATEGORIES:Rotary
END:VEVENT
BEGIN:VTIMEZONE
TZID:Europe/Zurich
BEGIN:DAYLIGHT
DTSTART:20200709T121500
TZNAME:CEST
TZOFFSETTO:+0200
TZOFFSETFROM:+0200
END:DAYLIGHT
END:VTIMEZONE
END:VCALENDAR
