BEGIN:VCALENDAR
PRODID:-//eluceo/ical//2.0/EN
VERSION:2.0
CALSCALE:GREGORIAN
BEGIN:VEVENT
UID:5fafd16c471d1c353f12f4533d76ae7b
DTSTAMP:20260421T231751Z
SUMMARY:Rotary-Lunch mit Vortrag von Fritz Ramseier (Schizophrenie)
DESCRIPTION:Sitio web: https://doodle.com/poll/dnnkrtpddxu7ukfx?utm_source=
 poll&utm_medium=link
URL:https://rotary-sissach.ch/es/agenda/show/132055
DTSTART;TZID=Europe/Zurich:20210930T121500
DTEND;TZID=Europe/Zurich:20210930T134500
LOCATION:Landgasthof Hard\, Alte Landstrasse 8\, 4455 Zunzgen
CATEGORIES:Rotary
END:VEVENT
BEGIN:VTIMEZONE
TZID:Europe/Zurich
BEGIN:DAYLIGHT
DTSTART:20210930T121500
TZNAME:CEST
TZOFFSETTO:+0200
TZOFFSETFROM:+0200
END:DAYLIGHT
END:VTIMEZONE
END:VCALENDAR
