BEGIN:VCALENDAR
PRODID:-//eluceo/ical//2.0/EN
VERSION:2.0
CALSCALE:GREGORIAN
BEGIN:VEVENT
UID:89f1adc5157b2091ce29f570602a7cf0
DTSTAMP:20260421T160126Z
SUMMARY:Abendanlass - «Wilde Menschen»
DESCRIPTION:Sitio web: https://doodle.com/poll/vc4qh5wkr8bwni7u?utm_source=
 poll&utm_medium=link\nOrador(es): 
URL:https://rotary-sissach.ch/es/agenda/show/134281
DTSTART;TZID=Europe/Zurich:20211104T183000
DTEND;TZID=Europe/Zurich:20211104T230000
LOCATION:Turmwirtschaft Aussichtsturm\, Schleifenberg 19A\, 4410 Liestal
CATEGORIES:Rotary
END:VEVENT
BEGIN:VTIMEZONE
TZID:Europe/Zurich
BEGIN:STANDARD
DTSTART:20211104T183000
TZNAME:CET
TZOFFSETTO:+0100
TZOFFSETFROM:+0100
END:STANDARD
END:VTIMEZONE
END:VCALENDAR
