BEGIN:VCALENDAR
PRODID:-//eluceo/ical//2.0/EN
VERSION:2.0
CALSCALE:GREGORIAN
BEGIN:VEVENT
UID:0436e74f0d52cfc67dba6ab72439c02e
DTSTAMP:20260420T012910Z
SUMMARY:Präsenzlunch (Stallwache)
DESCRIPTION:
URL:https://rotary-sissach.ch/es/agenda/show/22203
DTSTART;TZID=Europe/Zurich:20120628T121500
DTEND;TZID=Europe/Zurich:20120628T121500
LOCATION:Landgasthof Hard
CATEGORIES:Rotary
END:VEVENT
BEGIN:VTIMEZONE
TZID:Europe/Zurich
BEGIN:DAYLIGHT
DTSTART:20120628T121500
TZNAME:CEST
TZOFFSETTO:+0200
TZOFFSETFROM:+0200
END:DAYLIGHT
END:VTIMEZONE
END:VCALENDAR
