BEGIN:VCALENDAR
PRODID:-//eluceo/ical//2.0/EN
VERSION:2.0
CALSCALE:GREGORIAN
BEGIN:VEVENT
UID:c15e4459bec52e3d9e6f71a6da834f95
DTSTAMP:20260421T134719Z
SUMMARY:Alle Anlässe bis und mit 14. Juni 2020 sind abgesagt! 
DESCRIPTION:
URL:https://rotary-sissach.ch/fr/agenda/show/111527
DTSTART;TZID=Europe/Zurich:20200315T143000
DTEND;TZID=Europe/Zurich:20200614T000000
LOCATION:-
CATEGORIES:Rotary
END:VEVENT
BEGIN:VTIMEZONE
TZID:Europe/Zurich
BEGIN:STANDARD
DTSTART:20200315T143000
TZNAME:CET
TZOFFSETTO:+0100
TZOFFSETFROM:+0100
END:STANDARD
BEGIN:DAYLIGHT
DTSTART:20200329T030000
TZNAME:CEST
TZOFFSETTO:+0200
TZOFFSETFROM:+0100
END:DAYLIGHT
END:VTIMEZONE
END:VCALENDAR
