BEGIN:VCALENDAR
PRODID:-//eluceo/ical//2.0/EN
VERSION:2.0
CALSCALE:GREGORIAN
BEGIN:VEVENT
UID:1e5ebc208177011d7c38627ac3f10e5e
DTSTAMP:20260421T174251Z
SUMMARY:Lunch mit Referat - ABGESAGT
DESCRIPTION:Conférencier(s): Erwartungen Jahresaustausch\, Valerie Hendry\
 , Tecknau
URL:https://rotary-sissach.ch/fr/agenda/show/111672
DTSTART;TZID=Europe/Zurich:20200611T121500
DTEND;TZID=Europe/Zurich:20200611T121500
LOCATION:Landgasthof Hard
CATEGORIES:Rotary
END:VEVENT
BEGIN:VTIMEZONE
TZID:Europe/Zurich
BEGIN:DAYLIGHT
DTSTART:20200611T121500
TZNAME:CEST
TZOFFSETTO:+0200
TZOFFSETFROM:+0200
END:DAYLIGHT
END:VTIMEZONE
END:VCALENDAR
