BEGIN:VCALENDAR
PRODID:-//eluceo/ical//2.0/EN
VERSION:2.0
CALSCALE:GREGORIAN
BEGIN:VEVENT
UID:9e4bba403d7ce0aa9cc607e6db3f25c4
DTSTAMP:20260421T174339Z
SUMMARY:Präsenzapéro\, Caprice / 18.15 Uhr - FINDET STATT
DESCRIPTION:
URL:https://rotary-sissach.ch/fr/agenda/show/111673
DTSTART;TZID=Europe/Zurich:20200615T181500
DTEND;TZID=Europe/Zurich:20200615T181500
LOCATION:-
CATEGORIES:Rotary
END:VEVENT
BEGIN:VTIMEZONE
TZID:Europe/Zurich
BEGIN:DAYLIGHT
DTSTART:20200615T181500
TZNAME:CEST
TZOFFSETTO:+0200
TZOFFSETFROM:+0200
END:DAYLIGHT
END:VTIMEZONE
END:VCALENDAR
