BEGIN:VCALENDAR
PRODID:-//eluceo/ical//2.0/EN
VERSION:2.0
CALSCALE:GREGORIAN
BEGIN:VEVENT
UID:4ef5b72c76a28d46dfb4f601428c26d6
DTSTAMP:20260421T192804Z
SUMMARY:Lunch und 2. Mitgliederversammlung - FINDET STATT
DESCRIPTION:Site internet: https://doodle.com/poll/taycqq4tpr5xr5ha
URL:https://rotary-sissach.ch/fr/agenda/show/111674
DTSTART;TZID=Europe/Zurich:20200618T121500
DTEND;TZID=Europe/Zurich:20200618T121500
LOCATION:Landgasthof Hard
CATEGORIES:Rotary
END:VEVENT
BEGIN:VTIMEZONE
TZID:Europe/Zurich
BEGIN:DAYLIGHT
DTSTART:20200618T121500
TZNAME:CEST
TZOFFSETTO:+0200
TZOFFSETFROM:+0200
END:DAYLIGHT
END:VTIMEZONE
END:VCALENDAR
