BEGIN:VCALENDAR
PRODID:-//eluceo/ical//2.0/EN
VERSION:2.0
CALSCALE:GREGORIAN
BEGIN:VEVENT
UID:ece4ca19d9a78de3c8afcfbc2f88e72b
DTSTAMP:20260421T190715Z
SUMMARY:Plauderlunch
DESCRIPTION:Site internet: https://doodle.com/poll/8wzze3pkmgci2emu?utm_sou
 rce=poll&utm_medium=link
URL:https://rotary-sissach.ch/fr/agenda/show/134700
DTSTART;TZID=Europe/Zurich:20211111T121500
DTEND;TZID=Europe/Zurich:20211111T133000
LOCATION:Landgasthof Hard\, Alte Landstrasse 8\, 4455 Zunzgen
CATEGORIES:Rotary
END:VEVENT
BEGIN:VTIMEZONE
TZID:Europe/Zurich
BEGIN:STANDARD
DTSTART:20211111T121500
TZNAME:CET
TZOFFSETTO:+0100
TZOFFSETFROM:+0100
END:STANDARD
END:VTIMEZONE
END:VCALENDAR
