BEGIN:VCALENDAR
PRODID:-//eluceo/ical//2.0/EN
VERSION:2.0
CALSCALE:GREGORIAN
BEGIN:VEVENT
UID:4e93d212adc7e572ebd585119f1f9416
DTSTAMP:20260421T195940Z
SUMMARY:Plauderlunch
DESCRIPTION:Site internet: https://doodle.com/poll/5nd6yk8829rdi4v9?utm_sou
 rce=poll&utm_medium=link
URL:https://rotary-sissach.ch/fr/agenda/show/141175
DTSTART;TZID=Europe/Zurich:20220421T121500
DTEND;TZID=Europe/Zurich:20220421T133000
LOCATION:Landgasthof Hard\, Alte Landstrasse 8\, 4455 Zunzgen
CATEGORIES:Rotary
END:VEVENT
BEGIN:VTIMEZONE
TZID:Europe/Zurich
BEGIN:DAYLIGHT
DTSTART:20220421T121500
TZNAME:CEST
TZOFFSETTO:+0200
TZOFFSETFROM:+0200
END:DAYLIGHT
END:VTIMEZONE
END:VCALENDAR
