BEGIN:VCALENDAR
PRODID:-//eluceo/ical//2.0/EN
VERSION:2.0
CALSCALE:GREGORIAN
BEGIN:VEVENT
UID:ad130d57ea50d9ad9f80e5874e2bb7f8
DTSTAMP:20260421T234227Z
SUMMARY:Rotary-Lunch: Thema: Blindenhundeschule - Peter Kaufmann
DESCRIPTION:Site internet: https://doodle.com/poll/msnpsh8yusqg4bm3?utm_sou
 rce=poll&utm_medium=link
URL:https://rotary-sissach.ch/fr/agenda/show/141176
DTSTART;TZID=Europe/Zurich:20220428T121500
DTEND;TZID=Europe/Zurich:20220428T133000
LOCATION:Landgasthof Hard\, Alte Landstrasse 8\, 4455 Zunzgen\, Schweiz
CATEGORIES:Rotary
END:VEVENT
BEGIN:VTIMEZONE
TZID:Europe/Zurich
BEGIN:DAYLIGHT
DTSTART:20220428T121500
TZNAME:CEST
TZOFFSETTO:+0200
TZOFFSETFROM:+0200
END:DAYLIGHT
END:VTIMEZONE
END:VCALENDAR
