BEGIN:VCALENDAR
PRODID:-//eluceo/ical//2.0/EN
VERSION:2.0
CALSCALE:GREGORIAN
BEGIN:VEVENT
UID:d437f115971bad1c3ea774c9fde039e7
DTSTAMP:20260423T083946Z
SUMMARY:Abendanlass Biber
DESCRIPTION:Conférencier(s): Astrid Schönenberger
URL:https://rotary-sissach.ch/fr/agenda/show/144204
DTSTART;TZID=Europe/Zurich:20220707T183000
DTEND;TZID=Europe/Zurich:20220707T230000
LOCATION:Anwiler Weiher / Restaurant Jägerstübli Anwil
CATEGORIES:Rotary
END:VEVENT
BEGIN:VTIMEZONE
TZID:Europe/Zurich
BEGIN:DAYLIGHT
DTSTART:20220707T183000
TZNAME:CEST
TZOFFSETTO:+0200
TZOFFSETFROM:+0200
END:DAYLIGHT
END:VTIMEZONE
END:VCALENDAR
