BEGIN:VCALENDAR
PRODID:-//eluceo/ical//2.0/EN
VERSION:2.0
CALSCALE:GREGORIAN
BEGIN:VEVENT
UID:b6358c129b58231bd2f0b3e4f9001dbb
DTSTAMP:20260423T142708Z
SUMMARY:Eidgenössisches Schwing- und Älplerfest in Pratteln - Blick hinte
 r die Kulissen
DESCRIPTION:Site internet: https://esaf2022.ch/\nConférencier(s): Ruedi Sc
 haffner aus Sissach
URL:https://rotary-sissach.ch/fr/agenda/show/146886
DTSTART;TZID=Europe/Zurich:20220818T113000
DTEND;TZID=Europe/Zurich:20220818T150000
LOCATION:ESAF\, Pratteln
CATEGORIES:Rotary
END:VEVENT
BEGIN:VTIMEZONE
TZID:Europe/Zurich
BEGIN:DAYLIGHT
DTSTART:20220818T113000
TZNAME:CEST
TZOFFSETTO:+0200
TZOFFSETFROM:+0200
END:DAYLIGHT
END:VTIMEZONE
END:VCALENDAR
