BEGIN:VCALENDAR
PRODID:-//eluceo/ical//2.0/EN
VERSION:2.0
CALSCALE:GREGORIAN
BEGIN:VEVENT
UID:a2ca1019b71b1a00377f956e39e46406
DTSTAMP:20260422T104855Z
SUMMARY:Präsenzapéro
DESCRIPTION:Site internet: https://www.puvi-sydebaendel.ch
URL:https://rotary-sissach.ch/fr/agenda/show/147684
DTSTART;TZID=Europe/Zurich:20220815T180000
DTEND;TZID=Europe/Zurich:20220815T193000
LOCATION:Wystube zum Sydebändel\, Hauptstrasse 52\, 4450 Sissach\, Schweiz
CATEGORIES:Rotary
END:VEVENT
BEGIN:VTIMEZONE
TZID:Europe/Zurich
BEGIN:DAYLIGHT
DTSTART:20220815T180000
TZNAME:CEST
TZOFFSETTO:+0200
TZOFFSETFROM:+0200
END:DAYLIGHT
END:VTIMEZONE
END:VCALENDAR
