BEGIN:VCALENDAR
PRODID:-//eluceo/ical//2.0/EN
VERSION:2.0
CALSCALE:GREGORIAN
BEGIN:VEVENT
UID:5db87076da96d51fbf5fde0e22ae19f2
DTSTAMP:20260420T131846Z
SUMMARY:Skiweekend Grindelwald 2023
DESCRIPTION:Site internet: http://www.grindelwald.ch
URL:https://rotary-sissach.ch/fr/agenda/show/152364
DTSTART;TZID=Europe/Zurich:20230120T080000
DTEND;TZID=Europe/Zurich:20230122T230000
LOCATION:Grindelwald
CATEGORIES:Rotary
END:VEVENT
BEGIN:VTIMEZONE
TZID:Europe/Zurich
BEGIN:STANDARD
DTSTART:20230120T080000
TZNAME:CET
TZOFFSETTO:+0100
TZOFFSETFROM:+0100
END:STANDARD
END:VTIMEZONE
END:VCALENDAR
