BEGIN:VCALENDAR
PRODID:-//eluceo/ical//2.0/EN
VERSION:2.0
CALSCALE:GREGORIAN
BEGIN:VEVENT
UID:826fb07001dffed72460607f2742c0fd
DTSTAMP:20260420T130835Z
SUMMARY:Abendanlass "Fondueplausch"
DESCRIPTION:Site internet: https://www.zelgli.ch/\nConférencier(s): Martin
  Thommen\, VRP Elektra Baselland (EBL)
URL:https://rotary-sissach.ch/fr/agenda/show/153333
DTSTART;TZID=Europe/Zurich:20230105T183000
DTEND;TZID=Europe/Zurich:20230105T230000
LOCATION:Zelgli\, Sissach
CATEGORIES:Rotary
END:VEVENT
BEGIN:VTIMEZONE
TZID:Europe/Zurich
BEGIN:STANDARD
DTSTART:20230105T183000
TZNAME:CET
TZOFFSETTO:+0100
TZOFFSETFROM:+0100
END:STANDARD
END:VTIMEZONE
END:VCALENDAR
