BEGIN:VCALENDAR
PRODID:-//eluceo/ical//2.0/EN
VERSION:2.0
CALSCALE:GREGORIAN
BEGIN:VEVENT
UID:ec1cb0b2971211309fd2ac080761a659
DTSTAMP:20260423T195932Z
SUMMARY:Rotary Schiessanlass
DESCRIPTION:Conférencier(s): 
URL:https://rotary-sissach.ch/fr/agenda/show/158848
DTSTART;TZID=Europe/Zurich:20230504T174500
DTEND;TZID=Europe/Zurich:20230504T230000
LOCATION:Schiessanlage Limperg\, Sissach
CATEGORIES:Rotary
END:VEVENT
BEGIN:VTIMEZONE
TZID:Europe/Zurich
BEGIN:DAYLIGHT
DTSTART:20230504T174500
TZNAME:CEST
TZOFFSETTO:+0200
TZOFFSETFROM:+0200
END:DAYLIGHT
END:VTIMEZONE
END:VCALENDAR
