BEGIN:VCALENDAR
PRODID:-//eluceo/ical//2.0/EN
VERSION:2.0
CALSCALE:GREGORIAN
BEGIN:VEVENT
UID:1529c47f92a488febbf47c7819624462
DTSTAMP:20260419T204740Z
SUMMARY:Abendanlass zur "Auszeichnung aussergewöhnliche Ausbildung" | Refe
 rat Beat Röthlisberger\, CEO PostFinance AG: "Von der Banklehre zum CEO"
DESCRIPTION:Site internet: https://www.landgasthof-hirschen.ch/\nConférenc
 ier(s): Beat Röthlisberger\, CEO PostFinance AG
URL:https://rotary-sissach.ch/fr/agenda/show/210068
DTSTART;TZID=Europe/Zurich:20260416T170000
DTEND;TZID=Europe/Zurich:20260416T230000
LOCATION:Landgasthof Hirschen\, Diegten
CATEGORIES:Rotary
END:VEVENT
BEGIN:VTIMEZONE
TZID:Europe/Zurich
BEGIN:DAYLIGHT
DTSTART:20260416T170000
TZNAME:CEST
TZOFFSETTO:+0200
TZOFFSETFROM:+0200
END:DAYLIGHT
END:VTIMEZONE
END:VCALENDAR
