BEGIN:VCALENDAR
PRODID:-//eluceo/ical//2.0/EN
VERSION:2.0
CALSCALE:GREGORIAN
BEGIN:VEVENT
UID:742b95a12068a341d4c22c1f5cebd44f
DTSTAMP:20260419T185826Z
SUMMARY:Referat | Arie Verkuil "Innovation in der Region - die Rolle der FH
 NW"
DESCRIPTION:Site internet: http://www.landgasthof-hard.ch\nConférencier(s)
 : Arie Verkuil
URL:https://rotary-sissach.ch/fr/agenda/show/210989
DTSTART;TZID=Europe/Zurich:20260430T121500
DTEND;TZID=Europe/Zurich:20260430T141500
LOCATION:Landgasthof Hard\, Alte Landstrasse 8\, 4455 Zunzgen\, Schweiz
CATEGORIES:Rotary
END:VEVENT
BEGIN:VTIMEZONE
TZID:Europe/Zurich
BEGIN:DAYLIGHT
DTSTART:20260430T121500
TZNAME:CEST
TZOFFSETTO:+0200
TZOFFSETFROM:+0200
END:DAYLIGHT
END:VTIMEZONE
END:VCALENDAR
