BEGIN:VCALENDAR
PRODID:-//eluceo/ical//2.0/EN
VERSION:2.0
CALSCALE:GREGORIAN
BEGIN:VEVENT
UID:0eaa323256d756dbda3e2a13b86b162b
DTSTAMP:20260421T115947Z
SUMMARY:Kontaktapéro
DESCRIPTION:Afterwork Apéro für Rotarier mit wenig Zeit!
URL:https://rotary-sissach.ch/fr/agenda/show/26509
DTSTART;TZID=Europe/Zurich:20121010T180000
DTEND;TZID=Europe/Zurich:20121010T180000
LOCATION:Hilton Basel
CATEGORIES:Rotary
END:VEVENT
BEGIN:VTIMEZONE
TZID:Europe/Zurich
BEGIN:DAYLIGHT
DTSTART:20121010T180000
TZNAME:CEST
TZOFFSETTO:+0200
TZOFFSETFROM:+0200
END:DAYLIGHT
END:VTIMEZONE
END:VCALENDAR
