BEGIN:VCALENDAR
PRODID:-//eluceo/ical//2.0/EN
VERSION:2.0
CALSCALE:GREGORIAN
BEGIN:VEVENT
UID:79a72f3059637995b88336b8ef8d952e
DTSTAMP:20260423T111024Z
SUMMARY:Klassifikationsvortrag Rot. Jürg Gohl\, Chefredaktor Volksstimme S
 issach
DESCRIPTION:Conférencier(s): Rot. Jürg Gohl
URL:https://rotary-sissach.ch/fr/agenda/show/26731
DTSTART;TZID=Europe/Zurich:20121018T121500
DTEND;TZID=Europe/Zurich:20121018T121500
LOCATION:Landgasthof Hard
CATEGORIES:Rotary
END:VEVENT
BEGIN:VTIMEZONE
TZID:Europe/Zurich
BEGIN:DAYLIGHT
DTSTART:20121018T121500
TZNAME:CEST
TZOFFSETTO:+0200
TZOFFSETFROM:+0200
END:DAYLIGHT
END:VTIMEZONE
END:VCALENDAR
