BEGIN:VCALENDAR
PRODID:-//eluceo/ical//2.0/EN
VERSION:2.0
CALSCALE:GREGORIAN
BEGIN:VEVENT
UID:711a325baa691f30fe329caa937f2ad0
DTSTAMP:20260421T101221Z
SUMMARY:Arbeitstag Ödenburg
DESCRIPTION:
URL:https://rotary-sissach.ch/fr/agenda/show/26732
DTSTART;TZID=Europe/Zurich:20121020T090000
DTEND;TZID=Europe/Zurich:20121020T090000
LOCATION:Ödenburg Wenslingen
CATEGORIES:Rotary
END:VEVENT
BEGIN:VTIMEZONE
TZID:Europe/Zurich
BEGIN:DAYLIGHT
DTSTART:20121020T090000
TZNAME:CEST
TZOFFSETTO:+0200
TZOFFSETFROM:+0200
END:DAYLIGHT
END:VTIMEZONE
END:VCALENDAR
