BEGIN:VCALENDAR
PRODID:-//eluceo/ical//2.0/EN
VERSION:2.0
CALSCALE:GREGORIAN
BEGIN:VEVENT
UID:d8fb73dbc888fd33e077aecae3bf0a51
DTSTAMP:20260423T112551Z
SUMMARY:Herbstmarkt in Sissach\, Rotary Beizli und Präsenz-Apéro
DESCRIPTION:Mit diesem Anlass unterstützen wir verschiedene Projekte in un
 serem Clubgebiet.  Alle Rotarier sind herzlich eingeladen den Herbstmarkt 
 in Sissach und unser Rotarier Beizli zu Besuchen.  Wussten Sie übrigens\,
  dass der Sissach Herbstmarkt der grösste regelmässig stattfindenen Mark
 t in der Nordwestschweiz ist?  Einsatz der HelferInnen gemäss separat ver
 schicktem Einsatzplan.
URL:https://rotary-sissach.ch/fr/agenda/show/26783
DTSTART;TZID=Europe/Zurich:20121114T120000
DTEND;TZID=Europe/Zurich:20121114T140000
LOCATION:Jakobshof\, Sissach
CATEGORIES:Rotary
END:VEVENT
BEGIN:VTIMEZONE
TZID:Europe/Zurich
BEGIN:STANDARD
DTSTART:20121114T120000
TZNAME:CET
TZOFFSETTO:+0100
TZOFFSETFROM:+0100
END:STANDARD
END:VTIMEZONE
END:VCALENDAR
