BEGIN:VCALENDAR
PRODID:-//eluceo/ical//2.0/EN
VERSION:2.0
CALSCALE:GREGORIAN
BEGIN:VEVENT
UID:e82c08718cd570a3a41d99a936749f2b
DTSTAMP:20260419T183929Z
SUMMARY:# Rotary Openair
DESCRIPTION:Die Rotaryclubs Sissach und Gelterkinden präsentieren auch die
 ses Jahr wieder ein Benefizkonzert zugunsten der Jugendförderung im Oberb
 aselbiet. Die öffentliche Openair-Party im Hof der Weinbaufirma Buess an 
 der Hauptstrasse in Sissach wird ein einmaliges BLUES-Erlebnis!\nSite inte
 rnet: http://on.fb.me/19dBRvV\nConférencier(s): Rot. Lothar Degen\, Chef 
 OK
URL:https://rotary-sissach.ch/fr/agenda/show/30349
DTSTART;TZID=Europe/Zurich:20130622T190000
DTEND;TZID=Europe/Zurich:20130622T190000
LOCATION:Buess Weinbau AG\, Sissach
CATEGORIES:Rotary
END:VEVENT
BEGIN:VTIMEZONE
TZID:Europe/Zurich
BEGIN:DAYLIGHT
DTSTART:20130622T190000
TZNAME:CEST
TZOFFSETTO:+0200
TZOFFSETFROM:+0200
END:DAYLIGHT
END:VTIMEZONE
END:VCALENDAR
