BEGIN:VCALENDAR
PRODID:-//eluceo/ical//2.0/EN
VERSION:2.0
CALSCALE:GREGORIAN
BEGIN:VEVENT
UID:3d966ba7f33f17c01ad517d0ee583a6b
DTSTAMP:20260422T101903Z
SUMMARY:Mittagslunch /Trauerlunch
DESCRIPTION:Vefsíða: http://www.landgasthof-hard.ch
URL:https://rotary-sissach.ch/is/agenda/show/143293
DTSTART;TZID=Europe/Zurich:20240829T121500
DTEND;TZID=Europe/Zurich:20240829T140000
LOCATION:Landgasthof Hard\, Alte Landstrasse 8\, 4455 Zunzgen\, Schweiz
CATEGORIES:Rotary
END:VEVENT
BEGIN:VTIMEZONE
TZID:Europe/Zurich
BEGIN:DAYLIGHT
DTSTART:20240829T121500
TZNAME:CEST
TZOFFSETTO:+0200
TZOFFSETFROM:+0200
END:DAYLIGHT
END:VTIMEZONE
END:VCALENDAR
