BEGIN:VCALENDAR
PRODID:-//eluceo/ical//2.0/EN
VERSION:2.0
CALSCALE:GREGORIAN
BEGIN:VEVENT
UID:91a05467530fb5bee71cd257d28440a7
DTSTAMP:20260421T222304Z
SUMMARY:*# Achtung wegen Corona -Virus: Raclette anstelle Fondue!!!! 
DESCRIPTION:Sito web: https://doodle.com/poll/5ipi3wf8cz799eza\nRelatore/i:
  Rot. Hänu Bulk
URL:https://rotary-sissach.ch/it/agenda/show/108520
DTSTART;TZID=Europe/Zurich:20200305T181500
DTEND;TZID=Europe/Zurich:20200305T181500
LOCATION:Zelglihof\, Sissach
CATEGORIES:Rotary
END:VEVENT
BEGIN:VTIMEZONE
TZID:Europe/Zurich
BEGIN:STANDARD
DTSTART:20200305T181500
TZNAME:CET
TZOFFSETTO:+0100
TZOFFSETFROM:+0100
END:STANDARD
END:VTIMEZONE
END:VCALENDAR
