BEGIN:VCALENDAR
PRODID:-//eluceo/ical//2.0/EN
VERSION:2.0
CALSCALE:GREGORIAN
BEGIN:VEVENT
UID:4718458da3fb4d644a5e672577de8d77
DTSTAMP:20260422T001201Z
SUMMARY:*# Besichtigung SBB Betriebszentrale\, Olten\, anschliessendes Nach
 tessen => ABGESAGT!
DESCRIPTION:Sito web: https://company.sbb.ch/de/ueber-die-sbb/profil/sbb-er
 leben/sbb-erlebnisse/betriebszentralen.html\nRelatore/i: Besichtigung SBB 
 Betriebszentrale\, Olten\nanschliessendes Nachtessen in Olten\n\nAnlass mi
 t Partnerinnen/Partnern\nAnmeldung folgt
URL:https://rotary-sissach.ch/it/agenda/show/111657
DTSTART;TZID=Europe/Zurich:20200507T181500
DTEND;TZID=Europe/Zurich:20200507T181500
LOCATION:-
CATEGORIES:Rotary
END:VEVENT
BEGIN:VTIMEZONE
TZID:Europe/Zurich
BEGIN:DAYLIGHT
DTSTART:20200507T181500
TZNAME:CEST
TZOFFSETTO:+0200
TZOFFSETFROM:+0200
END:DAYLIGHT
END:VTIMEZONE
END:VCALENDAR
