BEGIN:VCALENDAR
PRODID:-//eluceo/ical//2.0/EN
VERSION:2.0
CALSCALE:GREGORIAN
BEGIN:VEVENT
UID:ef97d4873105e31ba38f9b7527fe02e9
DTSTAMP:20260422T000921Z
SUMMARY:*# Amtsübergabe - (Anmeldungen bis 19. Juni 2020)
DESCRIPTION:Sito web: https://doodle.com/poll/wpwvyeximv8dgb2c
URL:https://rotary-sissach.ch/it/agenda/show/111676
DTSTART;TZID=Europe/Zurich:20200625T181500
DTEND;TZID=Europe/Zurich:20200625T181500
LOCATION:Bad Eptingen\, Eptingen
CATEGORIES:Rotary
END:VEVENT
BEGIN:VTIMEZONE
TZID:Europe/Zurich
BEGIN:DAYLIGHT
DTSTART:20200625T181500
TZNAME:CEST
TZOFFSETTO:+0200
TZOFFSETFROM:+0200
END:DAYLIGHT
END:VTIMEZONE
END:VCALENDAR
