BEGIN:VCALENDAR
PRODID:-//eluceo/ical//2.0/EN
VERSION:2.0
CALSCALE:GREGORIAN
BEGIN:VEVENT
UID:8d67bdb95c9e022690b505ad4e9f3ee2
DTSTAMP:20260420T093316Z
SUMMARY:Präsenzapéro
DESCRIPTION:
URL:https://rotary-sissach.ch/it/agenda/show/26730
DTSTART;TZID=Europe/Zurich:20121015T180000
DTEND;TZID=Europe/Zurich:20121015T180000
LOCATION:Café Caprice Sissach
CATEGORIES:Rotary
END:VEVENT
BEGIN:VTIMEZONE
TZID:Europe/Zurich
BEGIN:DAYLIGHT
DTSTART:20121015T180000
TZNAME:CEST
TZOFFSETTO:+0200
TZOFFSETFROM:+0200
END:DAYLIGHT
END:VTIMEZONE
END:VCALENDAR
